BEGIN:VCALENDAR
VERSION:2.0
PRODID:-//Uncle Nearest Premium Whiskey - 100 Proof from Tennessee - ECPv6.15.20//NONSGML v1.0//EN
CALSCALE:GREGORIAN
METHOD:PUBLISH
X-ORIGINAL-URL:https://unclenearest.com
X-WR-CALDESC:Events for Uncle Nearest Premium Whiskey - 100 Proof from Tennessee
REFRESH-INTERVAL;VALUE=DURATION:PT1H
X-Robots-Tag:noindex
X-PUBLISHED-TTL:PT1H
BEGIN:VTIMEZONE
TZID:America/New_York
BEGIN:DAYLIGHT
TZOFFSETFROM:-0500
TZOFFSETTO:-0400
TZNAME:EDT
DTSTART:20190310T070000
END:DAYLIGHT
BEGIN:STANDARD
TZOFFSETFROM:-0400
TZOFFSETTO:-0500
TZNAME:EST
DTSTART:20191103T060000
END:STANDARD
BEGIN:DAYLIGHT
TZOFFSETFROM:-0500
TZOFFSETTO:-0400
TZNAME:EDT
DTSTART:20200308T070000
END:DAYLIGHT
BEGIN:STANDARD
TZOFFSETFROM:-0400
TZOFFSETTO:-0500
TZNAME:EST
DTSTART:20201101T060000
END:STANDARD
BEGIN:DAYLIGHT
TZOFFSETFROM:-0500
TZOFFSETTO:-0400
TZNAME:EDT
DTSTART:20210314T070000
END:DAYLIGHT
BEGIN:STANDARD
TZOFFSETFROM:-0400
TZOFFSETTO:-0500
TZNAME:EST
DTSTART:20211107T060000
END:STANDARD
END:VTIMEZONE
BEGIN:VEVENT
DTSTART;TZID=America/New_York:20200522T170000
DTEND;TZID=America/New_York:20200522T180000
DTSTAMP:20260420T162643
CREATED:20200518T184735Z
LAST-MODIFIED:20200522T220049Z
UID:10000347-1590166800-1590170400@unclenearest.com
SUMMARY:Virtual Happy Hour with Victoria Butler & Kitty Amann
DESCRIPTION:Named for the freed slave who became one of Tennessee’s greatest whiskey distillers\, Nearest Green\, Uncle Nearest seeks to preserve his legacy while crafting award-winning whiskey. Green’s great great granddaughter\, Victoria Butler\, will be joining us to talk about her family and their amazing whiskey history. Then\, we’ll be segueing into cocktail making with UN ambassador and cocktail slinger extraordinaire\, Kitty Amann. She’ll be using Uncle Nearest Premium Whiskey to craft the most delicious Boulevardier and Old Fashioned you’ve ever had! \nThank you\, Urban Grape Boston\, for hosting us!
URL:https://unclenearest.com/live/virtual-happy-hour-with-victoria-butler-kitty-amann/
LOCATION:Urban Grape\, 303 Columbus Ave\, Boston\, MA\, United States
CATEGORIES:Boston Events
ATTACH;FMTTYPE=image/png:https://unclenearest.com/wp-content/uploads/2020/05/victoria-kitty.png
END:VEVENT
END:VCALENDAR