BEGIN:VCALENDAR
VERSION:2.0
PRODID:-//Uncle Nearest Premium Whiskey - 100 Proof from Tennessee - ECPv6.15.20//NONSGML v1.0//EN
CALSCALE:GREGORIAN
METHOD:PUBLISH
X-WR-CALNAME:Uncle Nearest Premium Whiskey - 100 Proof from Tennessee
X-ORIGINAL-URL:https://unclenearest.com
X-WR-CALDESC:Events for Uncle Nearest Premium Whiskey - 100 Proof from Tennessee
REFRESH-INTERVAL;VALUE=DURATION:PT1H
X-Robots-Tag:noindex
X-PUBLISHED-TTL:PT1H
BEGIN:VTIMEZONE
TZID:America/New_York
BEGIN:DAYLIGHT
TZOFFSETFROM:-0500
TZOFFSETTO:-0400
TZNAME:EDT
DTSTART:20190310T070000
END:DAYLIGHT
BEGIN:STANDARD
TZOFFSETFROM:-0400
TZOFFSETTO:-0500
TZNAME:EST
DTSTART:20191103T060000
END:STANDARD
BEGIN:DAYLIGHT
TZOFFSETFROM:-0500
TZOFFSETTO:-0400
TZNAME:EDT
DTSTART:20200308T070000
END:DAYLIGHT
BEGIN:STANDARD
TZOFFSETFROM:-0400
TZOFFSETTO:-0500
TZNAME:EST
DTSTART:20201101T060000
END:STANDARD
BEGIN:DAYLIGHT
TZOFFSETFROM:-0500
TZOFFSETTO:-0400
TZNAME:EDT
DTSTART:20210314T070000
END:DAYLIGHT
BEGIN:STANDARD
TZOFFSETFROM:-0400
TZOFFSETTO:-0500
TZNAME:EST
DTSTART:20211107T060000
END:STANDARD
END:VTIMEZONE
BEGIN:VTIMEZONE
TZID:America/New_York
BEGIN:DAYLIGHT
TZOFFSETFROM:-0500
TZOFFSETTO:-0400
TZNAME:EDT
DTSTART:20190310T070000
END:DAYLIGHT
BEGIN:STANDARD
TZOFFSETFROM:-0400
TZOFFSETTO:-0500
TZNAME:EST
DTSTART:20191103T060000
END:STANDARD
BEGIN:DAYLIGHT
TZOFFSETFROM:-0500
TZOFFSETTO:-0400
TZNAME:EDT
DTSTART:20200308T070000
END:DAYLIGHT
BEGIN:STANDARD
TZOFFSETFROM:-0400
TZOFFSETTO:-0500
TZNAME:EST
DTSTART:20201101T060000
END:STANDARD
BEGIN:DAYLIGHT
TZOFFSETFROM:-0500
TZOFFSETTO:-0400
TZNAME:EDT
DTSTART:20210314T070000
END:DAYLIGHT
BEGIN:STANDARD
TZOFFSETFROM:-0400
TZOFFSETTO:-0500
TZNAME:EST
DTSTART:20211107T060000
END:STANDARD
END:VTIMEZONE
BEGIN:VEVENT
DTSTART;TZID=America/New_York:20200729T200000
DTEND;TZID=America/New_York:20200729T210000
DTSTAMP:20260422T021751
CREATED:20200713T201925Z
LAST-MODIFIED:20200713T202042Z
UID:10000364-1596052800-1596056400@unclenearest.com
SUMMARY:Summer Cocktail Series pt. 2
DESCRIPTION:Back by popular demand: Uncle Nearest Mixologists get together again to discuss and demonstrate more summer cocktail favorites. This episode\, Chasity will demonstrate this month’s feature from our Cocktail Calendar\, the Uncle’s Garden.  \nUNCLE’S GARDEN\nCreated by Khadka Anjan of the Grand Hyatt Tokyo \n45ml / 1.5 oz Uncle Nearest 1856\n15 ml/ 1/2 oz St Germaine Liqueur\n15 ml/ 1/2 oz Grenadine\n45 ml/ 1.5 oz Pineapple Juice\n1 Egg White \nCombine all ingredients in a cocktail shaker with ice\, shake well\, strain into a coupe glass\, garnish with a pineapple leaf or edible flowers.
URL:https://unclenearest.com/live/summer-cocktail-series-pt-2/
CATEGORIES:Cocktail Club
ATTACH;FMTTYPE=image/jpeg:https://unclenearest.com/wp-content/uploads/2020/07/Screenshot-2020-07-13-15.47.24.jpg
END:VEVENT
BEGIN:VEVENT
DTSTART;TZID=America/New_York:20200723T200000
DTEND;TZID=America/New_York:20200723T210000
DTSTAMP:20260422T021751
CREATED:20200717T164721Z
LAST-MODIFIED:20200717T164809Z
UID:10000365-1595534400-1595538000@unclenearest.com
SUMMARY:Cocktails with Victoria!
DESCRIPTION:On this episode of must-see whiskey TV\, our beloved Master Blender Victoria Eady Butler joins us to make two delicious summer cocktails with the help of Mixologists and Ambassadors\, Jay & Sailor. Shake and stir along with us!   \nGOING LIVE ON FACEBOOK 7/23 AT 8PM EST! \nLASTING IMPRESSION\n1.5 oz. Uncle Nearest 1884\n1 tsp. Raspberry preserves\n.5 oz simple syrup\n.5 oz. fresh lemon\n2 dashes Regan’s orange bitters \nMethod: Shake (with vigor/unbridled enthusiasm to break down raspberry) & Strain. Glassware: Nick & Nora coupe\, Garnish: orange pigtail \nBLACK WALL STREET\n2 oz Uncle Nearest 1884\n.5 oz Mint Syrup (2 parts h2o\, 1 part White sugar\, 1 cup of mint)\n2 dashes Fee Brothers Black Walnut Bitters  \nMethod: Stir in mixing glass with ice for 15 seconds. Strain over charcoal infused ice cube. (mint leaf inside cube) – charcoal powder and water). Top with a splash of Fever Tree Ginger Beer (1-2oz). Garnish with mint sprig. \nCocktail by Miss Adi B of Parlor Cocktail Den\, Atlanta\, GA
URL:https://unclenearest.com/live/cocktails-with-victoria/
CATEGORIES:Cocktail Club
ATTACH;FMTTYPE=image/jpeg:https://unclenearest.com/wp-content/uploads/2020/07/Screenshot-2020-07-17-12.44.23.jpg
END:VEVENT
BEGIN:VEVENT
DTSTART;TZID=America/New_York:20200722T200000
DTEND;TZID=America/New_York:20200722T210000
DTSTAMP:20260422T021751
CREATED:20200713T194247Z
LAST-MODIFIED:20200713T194415Z
UID:10000363-1595448000-1595451600@unclenearest.com
SUMMARY:Summer Cocktail Series pt. 1
DESCRIPTION:Uncle Nearest Mixologists get together to discuss summer cocktails and walk you through some of their favorite recipes. On this episode\, May Lee will demonstrate the Spicy Lady from our 2020 Cocktail Calendar!  \nSPICY LADY\nMuddle 1 slice of jalapeño\n2 oz. Uncle Nearest 1884 Whiskey\n3/4 oz. Lime Juice\n1/2 oz. Blood Orange\n1/2 oz. Agave  \nShake hard with ice for 10 sec\, strain over fresh ice.  \nServed in a rocks glass with a half rim of Alderwood sea salt. Garnish with blood orange and ENJOY!
URL:https://unclenearest.com/live/summer-cocktail-series-pt-1/
CATEGORIES:Cocktail Club
ATTACH;FMTTYPE=image/jpeg:https://unclenearest.com/wp-content/uploads/2020/07/Screenshot-2020-07-13-15.36.29.jpg
END:VEVENT
BEGIN:VEVENT
DTSTART;TZID=America/New_York:20200618T200000
DTEND;TZID=America/New_York:20200618T210000
DTSTAMP:20260422T021751
CREATED:20200617T151500Z
LAST-MODIFIED:20200617T151643Z
UID:10000354-1592510400-1592514000@unclenearest.com
SUMMARY:Victoria Makes a Cocktail!
DESCRIPTION:GOING LIVE ON FACEBOOK THURSDAY 6/18 AT 8PM EST! \nAtlanta Brand Ambassador\, Jay Madison\, teaches our beloved Master Blender\, Victoria Eady Butler\, to make some fantastic whiskey cocktails. Grab these ingredients so you can follow along at home and learn how to make these cocktails too! \nBREDDA BREDDA (a play on a classic Penicillin)\n2 oz Uncle Nearest 1884 Small Batch\n3/4 oz Giffard Crème de Pêche\n1/2 oz honey syrup\n1/2 oz lemon juice\n1/4 oz Suze\n1/4 oz ginger syrup\n– – Shake well and serve over one large cube with a spritz of mezcal on top! \nSOUTHERN CONNECTION\n2 oz Uncle Nearest 1856\n1 oz Amaretto\n3/4 oz Lemon Juice\n1/2 oz Simple Syrup\n1 Egg white\nCombine all ingredients in shaker and dry shake. Add Ice. Shake again\, then strain and pour over new ice in rocks glass. Garnish with a cherry & lemon twist. \n 
URL:https://unclenearest.com/live/victoria-makes-a-cocktail/
CATEGORIES:Cocktail Club
ATTACH;FMTTYPE=image/png:https://unclenearest.com/wp-content/uploads/2020/06/Screenshot-2020-06-17-11.12.56.png
END:VEVENT
BEGIN:VEVENT
DTSTART;TZID=America/New_York:20200521T180000
DTEND;TZID=America/New_York:20200521T183000
DTSTAMP:20260422T021751
CREATED:20200515T185618Z
LAST-MODIFIED:20200520T171057Z
UID:10000346-1590084000-1590085800@unclenearest.com
SUMMARY:IG LIVE TAKEOVER - Cocktail Demo with Brooklyn's Trade Street Jam!
DESCRIPTION:Ashley Rouse\, owner of Trade St. Jam in Brooklyn\, New York guides us through her favorite Uncle Nearest cocktail made with her signature Blueberry Lemon Basil Jam! \nGOING LIVE ON INSTAGRAM on Thursday\, 5/21/20 at 6pm EST! \n$5 off jam with promo code: UNismyjam at tradestjamco.com \nFREE SHIPPING & DELIVERY with promo code: UNismyjam at unclenearest.com
URL:https://unclenearest.com/live/ig-live-takeover-cocktail-demo-with-brooklyns-trade-street-jam/
CATEGORIES:Cocktail Club
ATTACH;FMTTYPE=image/png:https://unclenearest.com/wp-content/uploads/2020/05/Screenshot-2020-05-20-13.10.06.png
END:VEVENT
BEGIN:VEVENT
DTSTART;TZID=America/New_York:20200514T200000
DTEND;TZID=America/New_York:20200514T210000
DTSTAMP:20260422T021751
CREATED:20200512T002604Z
LAST-MODIFIED:20200512T002656Z
UID:10000340-1589486400-1589490000@unclenearest.com
SUMMARY:Thursday Cocktail Club with Shannon Mustipher
DESCRIPTION:Shannon Mustipher\, the first African American to write a cocktail recipe book in over 100 yrs. Tune in for an engaging cocktail convo and learn how to make Shannon’s favorite Uncle Nearest tiki-inspired cocktail. \nTUNE IN LIVE ON FACEBOOK at 8pm EST!
URL:https://unclenearest.com/live/thursday-cocktail-club-with-shannon-mustipher/
CATEGORIES:Cocktail Club
ATTACH;FMTTYPE=image/png:https://unclenearest.com/wp-content/uploads/2020/05/shannon.png
END:VEVENT
END:VCALENDAR