BEGIN:VCALENDAR
VERSION:2.0
PRODID:-//Uncle Nearest Premium Whiskey - 100 Proof from Tennessee - ECPv6.15.20//NONSGML v1.0//EN
CALSCALE:GREGORIAN
METHOD:PUBLISH
X-ORIGINAL-URL:https://unclenearest.com
X-WR-CALDESC:Events for Uncle Nearest Premium Whiskey - 100 Proof from Tennessee
REFRESH-INTERVAL;VALUE=DURATION:PT1H
X-Robots-Tag:noindex
X-PUBLISHED-TTL:PT1H
BEGIN:VTIMEZONE
TZID:America/New_York
BEGIN:DAYLIGHT
TZOFFSETFROM:-0500
TZOFFSETTO:-0400
TZNAME:EDT
DTSTART:20190310T070000
END:DAYLIGHT
BEGIN:STANDARD
TZOFFSETFROM:-0400
TZOFFSETTO:-0500
TZNAME:EST
DTSTART:20191103T060000
END:STANDARD
BEGIN:DAYLIGHT
TZOFFSETFROM:-0500
TZOFFSETTO:-0400
TZNAME:EDT
DTSTART:20200308T070000
END:DAYLIGHT
BEGIN:STANDARD
TZOFFSETFROM:-0400
TZOFFSETTO:-0500
TZNAME:EST
DTSTART:20201101T060000
END:STANDARD
BEGIN:DAYLIGHT
TZOFFSETFROM:-0500
TZOFFSETTO:-0400
TZNAME:EDT
DTSTART:20210314T070000
END:DAYLIGHT
BEGIN:STANDARD
TZOFFSETFROM:-0400
TZOFFSETTO:-0500
TZNAME:EST
DTSTART:20211107T060000
END:STANDARD
END:VTIMEZONE
BEGIN:VEVENT
DTSTART;TZID=America/New_York:20200803T200000
DTEND;TZID=America/New_York:20200803T210000
DTSTAMP:20260421T113334
CREATED:20200729T220407Z
LAST-MODIFIED:20200803T193939Z
UID:10000367-1596484800-1596488400@unclenearest.com
SUMMARY:Whiskey Women Talk Diversity
DESCRIPTION:Our whiskey women are back with guest and fellow whiskey lover\, Jazz The CEO\, de-escalation advocate and security industry professional\, to talk about what it’s like to be a woman of color in the security industry and her experiences with de-escalation techniques. \nTUNE IN LIVE AT 8PM EST ON FACEBOOK AND YOUTUBE!
URL:https://unclenearest.com/live/whiskey-women-talk-diversity/
CATEGORIES:Diversity,Whiskey Women
ATTACH;FMTTYPE=image/png:https://unclenearest.com/wp-content/uploads/2020/07/Screenshot-2020-07-31-15.27.52.png
END:VEVENT
BEGIN:VEVENT
DTSTART;TZID=America/New_York:20200716T200000
DTEND;TZID=America/New_York:20200716T210000
DTSTAMP:20260421T113334
CREATED:20200710T152938Z
LAST-MODIFIED:20200716T172841Z
UID:10000362-1594929600-1594933200@unclenearest.com
SUMMARY:Must See Whiskey TV with the Whiskey Dads!
DESCRIPTION:Dr. Bryant Marks\, Founding Director of the National Training Institute on Race and Equity at Morehouse College\, joins us again to review implicit bias training with the Whiskey Dads. Pour yourself an Uncle Nearest neat or make our featured cocktail below and join us in a conversation that is sure to make an impression. \nTHE REMEDY \n1.5 oz. Uncle Nearest 1856 Premium Whiskey\n.25 oz. Local honey syrup\n.5 oz. Aperol\nLavender Bitters\nWild Sweet Orange Tea\nMethod: Build or short-shake.\nGlass: Collins or Highball\nGarnish: dehydrated orange slice (w/ edible “surprise lily” if available & you’re feeling sassy) \nJOIN US LIVE ON FACEBOOK 7/16 AT 8PM EST!
URL:https://unclenearest.com/live/must-see-whiskey-tv-with-the-whiskey-dads/
CATEGORIES:Diversity,Whiskey Dads
ATTACH;FMTTYPE=image/jpeg:https://unclenearest.com/wp-content/uploads/2020/07/Screenshot-2020-07-10-11.28.05.jpg
END:VEVENT
BEGIN:VEVENT
DTSTART;TZID=America/New_York:20200713T200000
DTEND;TZID=America/New_York:20200713T210000
DTSTAMP:20260421T113334
CREATED:20200710T151734Z
LAST-MODIFIED:20200710T152936Z
UID:10000361-1594670400-1594674000@unclenearest.com
SUMMARY:Whiskey Women Discuss Equity in the Whiskey Biz
DESCRIPTION:Join us for a candid discussion with some of our trailblazing whiskey women from all over the country as they discuss how to create more equity for women in the whiskey business.  \nChasity Beasley – Uncle Nearest Chicago\nSailor Guevara – Uncle Nearest PNW\nMay Lee – Uncle Nearest Los Angeles
URL:https://unclenearest.com/live/whiskey-women/
CATEGORIES:Diversity,Whiskey Women
ATTACH;FMTTYPE=image/jpeg:https://unclenearest.com/wp-content/uploads/2020/06/Screenshot-2020-06-22-10.59.48.jpg
END:VEVENT
BEGIN:VEVENT
DTSTART;TZID=America/New_York:20200628T200000
DTEND;TZID=America/New_York:20200628T210000
DTSTAMP:20260421T113334
CREATED:20200622T212617Z
LAST-MODIFIED:20200622T212617Z
UID:10000357-1593374400-1593378000@unclenearest.com
SUMMARY:PRIDE CELEBRATION!
DESCRIPTION:Representation Matters: Changing the Narrative to include QTPOC and LGBTQA+ persons. Uncle Nearest Market Managers\, Ian and Rawnica\, will host a panel of Spirit and Hospitality Industry leaders\, including our own Brand Ambassador Chasity Beasley\, along with Tiffanie Barriere\, Ambrosia Borowski\, and Kaden Gibson . This panel will dive into the personal career journeys and obstacles for our panelists\, all identifying as either QTPOC or LGBTQA+\, and discuss what needs to be done to shift the narrative to focusing on making sure persons who identify in these groups are equally represented in the higher levels of organizations within the Spirits and Hospitality Industry. \nGOING LIVE ON FACEBOOK 6/28 AT 8PM EST!
URL:https://unclenearest.com/live/pride-celebration/
CATEGORIES:Diversity,Spirits & Hospitality
ATTACH;FMTTYPE=image/jpeg:https://unclenearest.com/wp-content/uploads/2020/06/pride-celebration.jpg
END:VEVENT
END:VCALENDAR