BEGIN:VCALENDAR
VERSION:2.0
PRODID:-//Uncle Nearest Premium Whiskey - 100 Proof from Tennessee - ECPv6.15.20//NONSGML v1.0//EN
CALSCALE:GREGORIAN
METHOD:PUBLISH
X-ORIGINAL-URL:https://unclenearest.com
X-WR-CALDESC:Events for Uncle Nearest Premium Whiskey - 100 Proof from Tennessee
REFRESH-INTERVAL;VALUE=DURATION:PT1H
X-Robots-Tag:noindex
X-PUBLISHED-TTL:PT1H
BEGIN:VTIMEZONE
TZID:America/New_York
BEGIN:DAYLIGHT
TZOFFSETFROM:-0500
TZOFFSETTO:-0400
TZNAME:EDT
DTSTART:20190310T070000
END:DAYLIGHT
BEGIN:STANDARD
TZOFFSETFROM:-0400
TZOFFSETTO:-0500
TZNAME:EST
DTSTART:20191103T060000
END:STANDARD
BEGIN:DAYLIGHT
TZOFFSETFROM:-0500
TZOFFSETTO:-0400
TZNAME:EDT
DTSTART:20200308T070000
END:DAYLIGHT
BEGIN:STANDARD
TZOFFSETFROM:-0400
TZOFFSETTO:-0500
TZNAME:EST
DTSTART:20201101T060000
END:STANDARD
BEGIN:DAYLIGHT
TZOFFSETFROM:-0500
TZOFFSETTO:-0400
TZNAME:EDT
DTSTART:20210314T070000
END:DAYLIGHT
BEGIN:STANDARD
TZOFFSETFROM:-0400
TZOFFSETTO:-0500
TZNAME:EST
DTSTART:20211107T060000
END:STANDARD
END:VTIMEZONE
BEGIN:VEVENT
DTSTART;TZID=America/New_York:20200518T190000
DTEND;TZID=America/New_York:20200518T200000
DTSTAMP:20260420T115501
CREATED:20200515T175551Z
LAST-MODIFIED:20200515T180640Z
UID:10000343-1589828400-1589832000@unclenearest.com
SUMMARY:LIVE BATTLE ROYALE Mystery Box Cocktail Challenge Battle Royale
DESCRIPTION:The two winning VPs go head to head to see who can create the best cocktail. Tune in live and vote in the comments for your favorite! Who will bring home the glory?  \nGOING LIVE ON FACEBOOK on Monday\, 5/18/20 at 7pm EST!
URL:https://unclenearest.com/live/live-mystery-box-cocktail-challenge-battle-royale/
CATEGORIES:Mystery Box Cocktail Challenge
ATTACH;FMTTYPE=image/png:https://unclenearest.com/wp-content/uploads/2020/05/OverPage-0-2.png
END:VEVENT
BEGIN:VEVENT
DTSTART;TZID=America/New_York:20200515T170000
DTEND;TZID=America/New_York:20200515T200000
DTSTAMP:20260420T115501
CREATED:20200512T003003Z
LAST-MODIFIED:20200512T013925Z
UID:10000341-1589562000-1589572800@unclenearest.com
SUMMARY:Mystery Box Cocktail Challenge ep. 4 & 5
DESCRIPTION:The UN brand ambassadors have officially thrown down the gauntlet! 🔨 Our regional VP’s may be pros at sipping whiskey neat but how well can they craft a cocktail? 🥃 Each VP has received a mystery box full of odd\, unique and classic cocktail ingredients. Each ambassador mixologist extraordinaire has been paired with a VP to go live\, and open the mystery box together. What crazy concoctions will they come up with? The two VPs with the best cocktail creation will be chosen to duke it out in a FINAL BATTLE on May 18th\, 2020!  \nEPISODE FOUR: Kate Jerkens (VP of Sales) & Sailor Guevara\, PNW Brand Ambassador\nEPISODE FIVE: Damian Shine (Head of National Accounts) and Gedeon Tsegaye\, San Fran Brand Ambassador \nTUNE IN LIVE ON FACEBOOK at 5pm & 8pm EST!
URL:https://unclenearest.com/live/mystery-box-cocktail-challenge-ep-4-5/
CATEGORIES:Mystery Box Cocktail Challenge
ATTACH;FMTTYPE=image/png:https://unclenearest.com/wp-content/uploads/2020/05/mystery-box-event.png
END:VEVENT
BEGIN:VEVENT
DTSTART;TZID=America/New_York:20200511T200000
DTEND;TZID=America/New_York:20200511T203000
DTSTAMP:20260420T115501
CREATED:20200511T203038Z
LAST-MODIFIED:20200512T002807Z
UID:10000337-1589227200-1589229000@unclenearest.com
SUMMARY:Mystery Box Cocktail Challenge ep. 3
DESCRIPTION:The UN brand ambassadors have officially thrown down the gauntlet! 🔨 Our regional VP’s may be pros at sipping whiskey neat but how well can they craft a cocktail? 🥃 Each VP has received a mystery box full of odd\, unique and classic cocktail ingredients. Each ambassador mixologist extraordinaire has been paired with a VP to go live\, and open the mystery box together. What crazy concoctions will they come up with? The two VPs with the best cocktail creation will be chosen to duke it out in a FINAL BATTLE at the end of the month. 🔥 \nEPISODE THREE: David Harper (VP of Sales\, East Coast) & Kitty Amann\, Boston Brand Ambassador \nTUNE IN LIVE ON FACEBOOK at 8pm EST!
URL:https://unclenearest.com/live/mystery-box-cocktail-challenge-ep-3/
CATEGORIES:Mystery Box Cocktail Challenge
ATTACH;FMTTYPE=image/png:https://unclenearest.com/wp-content/uploads/2020/05/mystery-box-event.png
END:VEVENT
BEGIN:VEVENT
DTSTART;TZID=America/New_York:20200508T200000
DTEND;TZID=America/New_York:20200508T200000
DTSTAMP:20260420T115501
CREATED:20200506T233332Z
LAST-MODIFIED:20200511T203222Z
UID:10000334-1588968000-1588968000@unclenearest.com
SUMMARY:Mystery Box Cocktail Challenge ep. 2
DESCRIPTION:The UN brand ambassadors have officially thrown down the gauntlet! 🔨 Our regional VP’s may be pros at sipping whiskey neat but how well can they craft a cocktail? 🥃 Each VP has received a mystery box full of odd\, unique and classic cocktail ingredients. Each ambassador mixologist extraordinaire has been paired with a VP to go live\, and open the mystery box together. What crazy concoctions will they come up with? The two VPs with the best cocktail creation will be chosen to duke it out in a FINAL BATTLE at the end of the month. 🔥 \n\nEPISODE TWO: Chuck Cronkhite (VP of Sales\, Midwest) & Chasity Beasley\, Chicago Brand Ambassador \nTUNE IN ON FACEBOOK!
URL:https://unclenearest.com/live/mystery-box-cocktail-challenge-ep-two/
CATEGORIES:Mystery Box Cocktail Challenge
ATTACH;FMTTYPE=image/png:https://unclenearest.com/wp-content/uploads/2020/05/mystery-box-event.png
END:VEVENT
END:VCALENDAR