BEGIN:VCALENDAR
VERSION:2.0
PRODID:-//Uncle Nearest Premium Whiskey - 100 Proof from Tennessee - ECPv6.15.20//NONSGML v1.0//EN
CALSCALE:GREGORIAN
METHOD:PUBLISH
X-WR-CALNAME:Uncle Nearest Premium Whiskey - 100 Proof from Tennessee
X-ORIGINAL-URL:https://unclenearest.com
X-WR-CALDESC:Events for Uncle Nearest Premium Whiskey - 100 Proof from Tennessee
REFRESH-INTERVAL;VALUE=DURATION:PT1H
X-Robots-Tag:noindex
X-PUBLISHED-TTL:PT1H
BEGIN:VTIMEZONE
TZID:America/New_York
BEGIN:DAYLIGHT
TZOFFSETFROM:-0500
TZOFFSETTO:-0400
TZNAME:EDT
DTSTART:20190310T070000
END:DAYLIGHT
BEGIN:STANDARD
TZOFFSETFROM:-0400
TZOFFSETTO:-0500
TZNAME:EST
DTSTART:20191103T060000
END:STANDARD
BEGIN:DAYLIGHT
TZOFFSETFROM:-0500
TZOFFSETTO:-0400
TZNAME:EDT
DTSTART:20200308T070000
END:DAYLIGHT
BEGIN:STANDARD
TZOFFSETFROM:-0400
TZOFFSETTO:-0500
TZNAME:EST
DTSTART:20201101T060000
END:STANDARD
BEGIN:DAYLIGHT
TZOFFSETFROM:-0500
TZOFFSETTO:-0400
TZNAME:EDT
DTSTART:20210314T070000
END:DAYLIGHT
BEGIN:STANDARD
TZOFFSETFROM:-0400
TZOFFSETTO:-0500
TZNAME:EST
DTSTART:20211107T060000
END:STANDARD
END:VTIMEZONE
BEGIN:VEVENT
DTSTART;TZID=America/New_York:20200628T200000
DTEND;TZID=America/New_York:20200628T210000
DTSTAMP:20260421T210103
CREATED:20200622T212617Z
LAST-MODIFIED:20200622T212617Z
UID:10000357-1593374400-1593378000@unclenearest.com
SUMMARY:PRIDE CELEBRATION!
DESCRIPTION:Representation Matters: Changing the Narrative to include QTPOC and LGBTQA+ persons. Uncle Nearest Market Managers\, Ian and Rawnica\, will host a panel of Spirit and Hospitality Industry leaders\, including our own Brand Ambassador Chasity Beasley\, along with Tiffanie Barriere\, Ambrosia Borowski\, and Kaden Gibson . This panel will dive into the personal career journeys and obstacles for our panelists\, all identifying as either QTPOC or LGBTQA+\, and discuss what needs to be done to shift the narrative to focusing on making sure persons who identify in these groups are equally represented in the higher levels of organizations within the Spirits and Hospitality Industry. \nGOING LIVE ON FACEBOOK 6/28 AT 8PM EST!
URL:https://unclenearest.com/live/pride-celebration/
CATEGORIES:Diversity,Spirits & Hospitality
ATTACH;FMTTYPE=image/jpeg:https://unclenearest.com/wp-content/uploads/2020/06/pride-celebration.jpg
END:VEVENT
END:VCALENDAR