BEGIN:VCALENDAR
VERSION:2.0
PRODID:-//Uncle Nearest Premium Whiskey - 100 Proof from Tennessee - ECPv6.15.20//NONSGML v1.0//EN
CALSCALE:GREGORIAN
METHOD:PUBLISH
X-ORIGINAL-URL:https://unclenearest.com
X-WR-CALDESC:Events for Uncle Nearest Premium Whiskey - 100 Proof from Tennessee
REFRESH-INTERVAL;VALUE=DURATION:PT1H
X-Robots-Tag:noindex
X-PUBLISHED-TTL:PT1H
BEGIN:VTIMEZONE
TZID:America/Los_Angeles
BEGIN:DAYLIGHT
TZOFFSETFROM:-0800
TZOFFSETTO:-0700
TZNAME:PDT
DTSTART:20230312T100000
END:DAYLIGHT
BEGIN:STANDARD
TZOFFSETFROM:-0700
TZOFFSETTO:-0800
TZNAME:PST
DTSTART:20231105T090000
END:STANDARD
BEGIN:DAYLIGHT
TZOFFSETFROM:-0800
TZOFFSETTO:-0700
TZNAME:PDT
DTSTART:20240310T100000
END:DAYLIGHT
BEGIN:STANDARD
TZOFFSETFROM:-0700
TZOFFSETTO:-0800
TZNAME:PST
DTSTART:20241103T090000
END:STANDARD
BEGIN:DAYLIGHT
TZOFFSETFROM:-0800
TZOFFSETTO:-0700
TZNAME:PDT
DTSTART:20250309T100000
END:DAYLIGHT
BEGIN:STANDARD
TZOFFSETFROM:-0700
TZOFFSETTO:-0800
TZNAME:PST
DTSTART:20251102T090000
END:STANDARD
END:VTIMEZONE
BEGIN:VTIMEZONE
TZID:America/Denver
BEGIN:DAYLIGHT
TZOFFSETFROM:-0700
TZOFFSETTO:-0600
TZNAME:MDT
DTSTART:20230312T090000
END:DAYLIGHT
BEGIN:STANDARD
TZOFFSETFROM:-0600
TZOFFSETTO:-0700
TZNAME:MST
DTSTART:20231105T080000
END:STANDARD
BEGIN:DAYLIGHT
TZOFFSETFROM:-0700
TZOFFSETTO:-0600
TZNAME:MDT
DTSTART:20240310T090000
END:DAYLIGHT
BEGIN:STANDARD
TZOFFSETFROM:-0600
TZOFFSETTO:-0700
TZNAME:MST
DTSTART:20241103T080000
END:STANDARD
BEGIN:DAYLIGHT
TZOFFSETFROM:-0700
TZOFFSETTO:-0600
TZNAME:MDT
DTSTART:20250309T090000
END:DAYLIGHT
BEGIN:STANDARD
TZOFFSETFROM:-0600
TZOFFSETTO:-0700
TZNAME:MST
DTSTART:20251102T080000
END:STANDARD
END:VTIMEZONE
BEGIN:VTIMEZONE
TZID:America/New_York
BEGIN:DAYLIGHT
TZOFFSETFROM:-0500
TZOFFSETTO:-0400
TZNAME:EDT
DTSTART:20230312T070000
END:DAYLIGHT
BEGIN:STANDARD
TZOFFSETFROM:-0400
TZOFFSETTO:-0500
TZNAME:EST
DTSTART:20231105T060000
END:STANDARD
BEGIN:DAYLIGHT
TZOFFSETFROM:-0500
TZOFFSETTO:-0400
TZNAME:EDT
DTSTART:20240310T070000
END:DAYLIGHT
BEGIN:STANDARD
TZOFFSETFROM:-0400
TZOFFSETTO:-0500
TZNAME:EST
DTSTART:20241103T060000
END:STANDARD
BEGIN:DAYLIGHT
TZOFFSETFROM:-0500
TZOFFSETTO:-0400
TZNAME:EDT
DTSTART:20250309T070000
END:DAYLIGHT
BEGIN:STANDARD
TZOFFSETFROM:-0400
TZOFFSETTO:-0500
TZNAME:EST
DTSTART:20251102T060000
END:STANDARD
END:VTIMEZONE
BEGIN:VEVENT
DTSTART;TZID=America/Los_Angeles:20240621T150000
DTEND;TZID=America/Los_Angeles:20240621T190000
DTSTAMP:20260421T225028
CREATED:20240531T190354Z
LAST-MODIFIED:20240531T190354Z
UID:10000940-1718982000-1718996400@unclenearest.com
SUMMARY:Bristol Farms Tasting - Yorba Linda
DESCRIPTION:
URL:https://unclenearest.com/live/bristol-farms-tasting-yorba-linda-5/
LOCATION:Bristol Farms – Yorba Linda\, 18421 Yorba Linda Blvd\, Yorba Linda\, CA\, 92886\, United States
END:VEVENT
BEGIN:VEVENT
DTSTART;TZID=America/Los_Angeles:20240621T150000
DTEND;TZID=America/Los_Angeles:20240621T190000
DTSTAMP:20260421T225028
CREATED:20240531T185745Z
LAST-MODIFIED:20240531T185745Z
UID:10000939-1718982000-1718996400@unclenearest.com
SUMMARY:Bristol Farms Tasting - Woodland Hills
DESCRIPTION:
URL:https://unclenearest.com/live/bristol-farms-tasting-woodland-hills-4/
LOCATION:Bristol Farms – Woodland Hills\, 23379 Mulholland Dr\, Woodland Hills\, CA\, 93164\, United States
END:VEVENT
BEGIN:VEVENT
DTSTART;TZID=America/Los_Angeles:20240621T150000
DTEND;TZID=America/Los_Angeles:20240621T190000
DTSTAMP:20260421T225028
CREATED:20240531T184547Z
LAST-MODIFIED:20240531T184547Z
UID:10000938-1718982000-1718996400@unclenearest.com
SUMMARY:Bristol Farms Tasting - Manhattan Beach
DESCRIPTION:
URL:https://unclenearest.com/live/bristol-farms-tasting-manhattan-beach-4/
LOCATION:Bristol Farms – Manhattan Beach\, 1570 Rosecrans Ave\, Manhattan Beach\, CA\, 90266\, United States
END:VEVENT
BEGIN:VEVENT
DTSTART;TZID=America/Los_Angeles:20240621T150000
DTEND;TZID=America/Los_Angeles:20240621T190000
DTSTAMP:20260421T225028
CREATED:20240531T184335Z
LAST-MODIFIED:20240531T184335Z
UID:10000937-1718982000-1718996400@unclenearest.com
SUMMARY:Bristol Farms Tasting - West Hollywood
DESCRIPTION:
URL:https://unclenearest.com/live/bristol-farms-tasting-west-hollywood-8/
LOCATION:Bristol Farms – West Hollywood\, 9038 Beverly Blvd\, West Hollywood\, CA\, 90048\, United States
END:VEVENT
BEGIN:VEVENT
DTSTART;TZID=America/Los_Angeles:20240615T160000
DTEND;TZID=America/Los_Angeles:20240615T190000
DTSTAMP:20260421T225028
CREATED:20240531T183555Z
LAST-MODIFIED:20240531T183555Z
UID:10000936-1718467200-1718478000@unclenearest.com
SUMMARY:Whole Foods Tasting - Brentwood
DESCRIPTION:
URL:https://unclenearest.com/live/whole-foods-tasting-brentwood-3/
LOCATION:Whole Foods – Brentwood\, 11737 San Vicente Blvd\, Brentwood\, CA\, 90049\, United States
END:VEVENT
BEGIN:VEVENT
DTSTART;TZID=America/Los_Angeles:20240615T160000
DTEND;TZID=America/Los_Angeles:20240615T190000
DTSTAMP:20260421T225028
CREATED:20240531T183343Z
LAST-MODIFIED:20240531T183343Z
UID:10000934-1718467200-1718478000@unclenearest.com
SUMMARY:Whole Foods Tasting - Pasadena
DESCRIPTION:
URL:https://unclenearest.com/live/whole-foods-tasting-pasadena-2/
LOCATION:Whole Foods – Pasadena\, 3751 E Foothill Blvd\, Pasadena\, CA\, 91107\, United States
END:VEVENT
BEGIN:VEVENT
DTSTART;TZID=America/Los_Angeles:20240615T160000
DTEND;TZID=America/Los_Angeles:20240615T190000
DTSTAMP:20260421T225028
CREATED:20240531T182715Z
LAST-MODIFIED:20240531T182715Z
UID:10000933-1718467200-1718478000@unclenearest.com
SUMMARY:Whole Foods Tasting - Brea
DESCRIPTION:
URL:https://unclenearest.com/live/whole-foods-tasting-brea-2/
LOCATION:Whole Foods – Brea\, 3301 Imperial Hwy\, Brea\, CA\, 92823\, United States
END:VEVENT
BEGIN:VEVENT
DTSTART;TZID=America/Los_Angeles:20240615T150000
DTEND;TZID=America/Los_Angeles:20240615T190000
DTSTAMP:20260421T225028
CREATED:20240531T183448Z
LAST-MODIFIED:20240531T183448Z
UID:10000935-1718463600-1718478000@unclenearest.com
SUMMARY:Bristol Farms Tasting - West Hollywood
DESCRIPTION:
URL:https://unclenearest.com/live/bristol-farms-tasting-west-hollywood-7/
LOCATION:Bristol Farms – West Hollywood\, 9038 Beverly Blvd\, West Hollywood\, CA\, 90048\, United States
END:VEVENT
BEGIN:VEVENT
DTSTART;TZID=America/Denver:20240614T180000
DTEND;TZID=America/Denver:20240614T210000
DTSTAMP:20260421T225028
CREATED:20240517T160419Z
LAST-MODIFIED:20240517T160419Z
UID:10000922-1718388000-1718398800@unclenearest.com
SUMMARY:WhiskyX - Denver
DESCRIPTION:
URL:https://unclenearest.com/live/whiskyx-denver/
LOCATION:Wings Over the Rockies Air and Space Museum\, 7711 E Academy Blvd\, Denver\, CO\, 80230\, United States
END:VEVENT
BEGIN:VEVENT
DTSTART;TZID=America/Los_Angeles:20240614T160000
DTEND;TZID=America/Los_Angeles:20240614T190000
DTSTAMP:20260421T225028
CREATED:20240531T180529Z
LAST-MODIFIED:20240531T180529Z
UID:10000932-1718380800-1718391600@unclenearest.com
SUMMARY:Whole Foods Tasting - Newport Beach
DESCRIPTION:
URL:https://unclenearest.com/live/whole-foods-tasting-newport-beach-2/
LOCATION:Whole Foods – Newport Beach\, 415 Newport Center Dr\, Newport Beach\, 92660\, United States
END:VEVENT
BEGIN:VEVENT
DTSTART;TZID=America/Los_Angeles:20240609T160000
DTEND;TZID=America/Los_Angeles:20240609T190000
DTSTAMP:20260421T225028
CREATED:20240531T180428Z
LAST-MODIFIED:20240531T180428Z
UID:10000931-1717948800-1717959600@unclenearest.com
SUMMARY:Whole Foods Tasting - Laguna Niguel
DESCRIPTION:
URL:https://unclenearest.com/live/whole-foods-tasting-laguna-niguel-3/
LOCATION:Whole Foods – Laguna Niguel\, 23932 Aliso Creek Rd\, Laguna Niguel\, CA\, 92677\, United States
END:VEVENT
BEGIN:VEVENT
DTSTART;TZID=America/Los_Angeles:20240608T160000
DTEND;TZID=America/Los_Angeles:20240608T190000
DTSTAMP:20260421T225028
CREATED:20240531T180332Z
LAST-MODIFIED:20240531T180332Z
UID:10000930-1717862400-1717873200@unclenearest.com
SUMMARY:Whole Foods Tasting - Burbank
DESCRIPTION:
URL:https://unclenearest.com/live/whole-foods-tasting-burbank-2/
LOCATION:Whole Foods – Burbank\, 3401 W Olive Ave\, Burbank\, CA\, 91505\, United States
END:VEVENT
BEGIN:VEVENT
DTSTART;TZID=America/Los_Angeles:20240608T150000
DTEND;TZID=America/Los_Angeles:20240608T190000
DTSTAMP:20260421T225028
CREATED:20240531T175036Z
LAST-MODIFIED:20240531T175036Z
UID:10000929-1717858800-1717873200@unclenearest.com
SUMMARY:Bristol Farms Tasting - Woodland Hills
DESCRIPTION:
URL:https://unclenearest.com/live/bristol-farms-tasting-woodland-hills-3/
LOCATION:Bristol Farms – Woodland Hills\, 23379 Mulholland Dr\, Woodland Hills\, CA\, 93164\, United States
END:VEVENT
BEGIN:VEVENT
DTSTART;TZID=America/Los_Angeles:20240607T160000
DTEND;TZID=America/Los_Angeles:20240607T190000
DTSTAMP:20260421T225028
CREATED:20240531T174816Z
LAST-MODIFIED:20240531T174816Z
UID:10000928-1717776000-1717786800@unclenearest.com
SUMMARY:Whole Foods Tasting - Irvine
DESCRIPTION:
URL:https://unclenearest.com/live/whole-foods-tasting-irvine-2/
LOCATION:Whole Foods – Irvine\, 8525 Irvine Center Dr\, Irvine\, CA\, 92618\, United States
END:VEVENT
BEGIN:VEVENT
DTSTART;TZID=America/Los_Angeles:20240607T160000
DTEND;TZID=America/Los_Angeles:20240607T190000
DTSTAMP:20260421T225028
CREATED:20240531T174723Z
LAST-MODIFIED:20240531T174723Z
UID:10000927-1717776000-1717786800@unclenearest.com
SUMMARY:Whole Foods Tasting - Brentwood
DESCRIPTION:
URL:https://unclenearest.com/live/whole-foods-tasting-brentwood-2/
LOCATION:Whole Foods – Brentwood\, 11737 San Vicente Blvd\, Brentwood\, CA\, 90049\, United States
END:VEVENT
BEGIN:VEVENT
DTSTART;TZID=America/Los_Angeles:20240607T160000
DTEND;TZID=America/Los_Angeles:20240607T190000
DTSTAMP:20260421T225028
CREATED:20240531T174623Z
LAST-MODIFIED:20240531T174623Z
UID:10000926-1717776000-1717786800@unclenearest.com
SUMMARY:Whole Foods Tasting - Huntington Beach
DESCRIPTION:
URL:https://unclenearest.com/live/whole-foods-tasting-huntington-beach-2/
LOCATION:Whole Foods – Huntington Beach\, 7881 Edinger Ave\, Huntington Beach\, CA\, 92647\, United States
END:VEVENT
BEGIN:VEVENT
DTSTART;TZID=America/Los_Angeles:20240607T150000
DTEND;TZID=America/Los_Angeles:20240607T190000
DTSTAMP:20260421T225028
CREATED:20240531T174200Z
LAST-MODIFIED:20240531T174200Z
UID:10000925-1717772400-1717786800@unclenearest.com
SUMMARY:Bristol Farms Tasting - Yorba Linda
DESCRIPTION:
URL:https://unclenearest.com/live/bristol-farms-tasting-yorba-linda-4/
LOCATION:Bristol Farms – Yorba Linda\, 18421 Yorba Linda Blvd\, Yorba Linda\, CA\, 92886\, United States
END:VEVENT
BEGIN:VEVENT
DTSTART;TZID=America/Los_Angeles:20240607T150000
DTEND;TZID=America/Los_Angeles:20240607T190000
DTSTAMP:20260421T225028
CREATED:20240531T174101Z
LAST-MODIFIED:20240531T174101Z
UID:10000924-1717772400-1717786800@unclenearest.com
SUMMARY:Bristol Farms Tasting: Manhattan Beach
DESCRIPTION:
URL:https://unclenearest.com/live/bristol-farms-tasting-manhattan-beach-3/
LOCATION:Bristol Farms – Manhattan Beach\, 1570 Rosecrans Ave\, Manhattan Beach\, CA\, 90266\, United States
END:VEVENT
BEGIN:VEVENT
DTSTART;TZID=America/Los_Angeles:20240607T150000
DTEND;TZID=America/Los_Angeles:20240607T190000
DTSTAMP:20260421T225028
CREATED:20240531T173950Z
LAST-MODIFIED:20240531T173950Z
UID:10000923-1717772400-1717786800@unclenearest.com
SUMMARY:Bristol Farms Tasting: West Hollywood
DESCRIPTION:
URL:https://unclenearest.com/live/bristol-farms-tasting-west-hollywood-6/
LOCATION:Bristol Farms – West Hollywood\, 9038 Beverly Blvd\, West Hollywood\, CA\, 90048\, United States
END:VEVENT
BEGIN:VEVENT
DTSTART;TZID=America/New_York:20240606T180000
DTEND;TZID=America/New_York:20240606T210000
DTSTAMP:20260421T225028
CREATED:20240517T160258Z
LAST-MODIFIED:20240517T160258Z
UID:10000921-1717696800-1717707600@unclenearest.com
SUMMARY:WhiskyX - Atlanta
DESCRIPTION:
URL:https://unclenearest.com/live/whiskyx-atlanta/
LOCATION:Guardian Works\, 775 Echo St. NW\, Atlanta\, GA\, 30318\, United States
END:VEVENT
BEGIN:VEVENT
DTSTART;TZID=America/New_York:20240602T153000
DTEND;TZID=America/New_York:20240602T190000
DTSTAMP:20260421T225028
CREATED:20240517T160122Z
LAST-MODIFIED:20240517T160122Z
UID:10000920-1717342200-1717354800@unclenearest.com
SUMMARY:Heritage Fire - Savannah
DESCRIPTION:VIP Entry: 3:30pm\nGeneral Admission: 4:15pm\nEvent Ends: 7:00pm
URL:https://unclenearest.com/live/heritage-fire-savannah/
LOCATION:The Westin Savannah Harbor Golf Resort and Spa\, 1 Resort Drive\, Savannah\, GA\, 31421\, United States
END:VEVENT
BEGIN:VEVENT
DTSTART;TZID=America/Denver:20240601T180000
DTEND;TZID=America/Denver:20240601T210000
DTSTAMP:20260421T225028
CREATED:20240503T150432Z
LAST-MODIFIED:20240503T150432Z
UID:10000897-1717264800-1717275600@unclenearest.com
SUMMARY:Whiskies of the World - Paradise Valley
DESCRIPTION:
URL:https://unclenearest.com/live/whiskies-of-the-world-paradise-valley/
LOCATION:Sanctuary Camelback Mountain\, 5700 E McDonald Dr\, Paradise Valley\, AZ\, 85253\, United States
END:VEVENT
BEGIN:VEVENT
DTSTART;TZID=America/New_York:20240601T140000
DTEND;TZID=America/New_York:20240602T200000
DTSTAMP:20260421T225028
CREATED:20240419T142715Z
LAST-MODIFIED:20240510T154242Z
UID:10000891-1717250400-1717358400@unclenearest.com
SUMMARY:Creole Food Festival: New York
DESCRIPTION:Multi-day event
URL:https://unclenearest.com/live/creole-food-festival-new-york/
LOCATION:Mercedes of Manhattan\, 770 11th Avenue\, New York City\, NY\, 10019\, United States
END:VEVENT
BEGIN:VEVENT
DTSTART;TZID=America/Los_Angeles:20240531T150000
DTEND;TZID=America/Los_Angeles:20240531T190000
DTSTAMP:20260421T225028
CREATED:20240517T155711Z
LAST-MODIFIED:20240517T155711Z
UID:10000919-1717167600-1717182000@unclenearest.com
SUMMARY:Bristol Farms Tasting - Yorba Linda
DESCRIPTION:
URL:https://unclenearest.com/live/bristol-farms-tasting-yorba-linda-3/
LOCATION:Bristol Farms – Yorba Linda\, 18421 Yorba Linda Blvd\, Yorba Linda\, CA\, 92886\, United States
END:VEVENT
BEGIN:VEVENT
DTSTART;TZID=America/Los_Angeles:20240530T190000
DTEND;TZID=America/Los_Angeles:20240602T230000
DTSTAMP:20260421T225028
CREATED:20240322T193445Z
LAST-MODIFIED:20240322T193536Z
UID:10000859-1717095600-1717369200@unclenearest.com
SUMMARY:Black Food and Wine Experience\, Grand Tasting 2024
DESCRIPTION:Multi-Day
URL:https://unclenearest.com/live/black-food-and-wine-experience-grand-tasting/
LOCATION:The Bridge Yard\, 210 Burma Rd\, Oakland\, CA\, 94607\, United States
END:VEVENT
BEGIN:VEVENT
DTSTART;TZID=America/New_York:20240530T183000
DTEND;TZID=America/New_York:20240530T220000
DTSTAMP:20260421T225028
CREATED:20240503T150155Z
LAST-MODIFIED:20240503T150155Z
UID:10000896-1717093800-1717106400@unclenearest.com
SUMMARY:Turn On The Light 2024
DESCRIPTION:
URL:https://unclenearest.com/live/turn-on-the-light-2024/
LOCATION:JFK Presidential Library & Museum\, Columbia Point\, Boston\, MA\, 02125\, United States
END:VEVENT
BEGIN:VEVENT
DTSTART;TZID=America/Los_Angeles:20240530T160000
DTEND;TZID=America/Los_Angeles:20240530T190000
DTSTAMP:20260421T225028
CREATED:20240517T155609Z
LAST-MODIFIED:20240517T155609Z
UID:10000918-1717084800-1717095600@unclenearest.com
SUMMARY:Total Wine Tasting - San Francisco
DESCRIPTION:
URL:https://unclenearest.com/live/total-wine-tasting-san-francisco-2/
LOCATION:Total Wine – San Francisco\, 1750 Harrison St\, San Francisco\, CA\, 94103\, United States
END:VEVENT
BEGIN:VEVENT
DTSTART;TZID=America/Los_Angeles:20240530T160000
DTEND;TZID=America/Los_Angeles:20240530T190000
DTSTAMP:20260421T225028
CREATED:20240517T155401Z
LAST-MODIFIED:20240517T155401Z
UID:10000916-1717084800-1717095600@unclenearest.com
SUMMARY:Whole Foods Tasting - Irvine
DESCRIPTION:
URL:https://unclenearest.com/live/whole-foods-tasting-irvine/
LOCATION:Whole Foods – Irvine\, 8525 Irvine Center Dr\, Irvine\, CA\, 92618\, United States
END:VEVENT
BEGIN:VEVENT
DTSTART;TZID=America/Los_Angeles:20240530T153000
DTEND;TZID=America/Los_Angeles:20240530T183000
DTSTAMP:20260421T225028
CREATED:20240517T155508Z
LAST-MODIFIED:20240517T155508Z
UID:10000917-1717083000-1717093800@unclenearest.com
SUMMARY:Total Wine Tasting
DESCRIPTION:
URL:https://unclenearest.com/live/total-wine-tasting/
LOCATION:Total Wine – Culver City\, 114411 Jefferson Blvd\, Culver City\, CA\, 90230\, United States
END:VEVENT
BEGIN:VEVENT
DTSTART;TZID=America/Los_Angeles:20240528T160000
DTEND;TZID=America/Los_Angeles:20240528T190000
DTSTAMP:20260421T225028
CREATED:20240517T155312Z
LAST-MODIFIED:20240517T155312Z
UID:10000915-1716912000-1716922800@unclenearest.com
SUMMARY:Whole Foods Tasting - Culver City
DESCRIPTION:
URL:https://unclenearest.com/live/whole-foods-tasting-culver-city/
LOCATION:Whole Foods – Culver City\, 3377 S LaCienega Blvd\, Culver City\, CA\, 90016\, United States
END:VEVENT
END:VCALENDAR