BEGIN:VCALENDAR
VERSION:2.0
PRODID:-//Uncle Nearest Premium Whiskey - 100 Proof from Tennessee - ECPv6.15.20//NONSGML v1.0//EN
CALSCALE:GREGORIAN
METHOD:PUBLISH
X-ORIGINAL-URL:https://unclenearest.com
X-WR-CALDESC:Events for Uncle Nearest Premium Whiskey - 100 Proof from Tennessee
REFRESH-INTERVAL;VALUE=DURATION:PT1H
X-Robots-Tag:noindex
X-PUBLISHED-TTL:PT1H
BEGIN:VTIMEZONE
TZID:America/Los_Angeles
BEGIN:DAYLIGHT
TZOFFSETFROM:-0800
TZOFFSETTO:-0700
TZNAME:PDT
DTSTART:20230312T100000
END:DAYLIGHT
BEGIN:STANDARD
TZOFFSETFROM:-0700
TZOFFSETTO:-0800
TZNAME:PST
DTSTART:20231105T090000
END:STANDARD
BEGIN:DAYLIGHT
TZOFFSETFROM:-0800
TZOFFSETTO:-0700
TZNAME:PDT
DTSTART:20240310T100000
END:DAYLIGHT
BEGIN:STANDARD
TZOFFSETFROM:-0700
TZOFFSETTO:-0800
TZNAME:PST
DTSTART:20241103T090000
END:STANDARD
BEGIN:DAYLIGHT
TZOFFSETFROM:-0800
TZOFFSETTO:-0700
TZNAME:PDT
DTSTART:20250309T100000
END:DAYLIGHT
BEGIN:STANDARD
TZOFFSETFROM:-0700
TZOFFSETTO:-0800
TZNAME:PST
DTSTART:20251102T090000
END:STANDARD
END:VTIMEZONE
BEGIN:VTIMEZONE
TZID:America/New_York
BEGIN:DAYLIGHT
TZOFFSETFROM:-0500
TZOFFSETTO:-0400
TZNAME:EDT
DTSTART:20230312T070000
END:DAYLIGHT
BEGIN:STANDARD
TZOFFSETFROM:-0400
TZOFFSETTO:-0500
TZNAME:EST
DTSTART:20231105T060000
END:STANDARD
BEGIN:DAYLIGHT
TZOFFSETFROM:-0500
TZOFFSETTO:-0400
TZNAME:EDT
DTSTART:20240310T070000
END:DAYLIGHT
BEGIN:STANDARD
TZOFFSETFROM:-0400
TZOFFSETTO:-0500
TZNAME:EST
DTSTART:20241103T060000
END:STANDARD
BEGIN:DAYLIGHT
TZOFFSETFROM:-0500
TZOFFSETTO:-0400
TZNAME:EDT
DTSTART:20250309T070000
END:DAYLIGHT
BEGIN:STANDARD
TZOFFSETFROM:-0400
TZOFFSETTO:-0500
TZNAME:EST
DTSTART:20251102T060000
END:STANDARD
END:VTIMEZONE
BEGIN:VEVENT
DTSTART;TZID=America/Los_Angeles:20240418T150000
DTEND;TZID=America/Los_Angeles:20240418T190000
DTSTAMP:20260421T060754
CREATED:20240411T153537Z
LAST-MODIFIED:20240411T174509Z
UID:10000873-1713452400-1713466800@unclenearest.com
SUMMARY:Bristol Farms Tasting - Yorba Linda\, CA
DESCRIPTION:
URL:https://unclenearest.com/live/bristol-farms-tasting-yorba-linda-ca/
LOCATION:Bristol Farms\, 18421 Yorba Linda Blvd\, Yorba Linda\, CA\, 92886\, United States
END:VEVENT
BEGIN:VEVENT
DTSTART;TZID=America/Los_Angeles:20240323T150000
DTEND;TZID=America/Los_Angeles:20240323T190000
DTSTAMP:20260421T060754
CREATED:20240301T211455Z
LAST-MODIFIED:20240301T211455Z
UID:10000848-1711206000-1711220400@unclenearest.com
SUMMARY:Bristol Farms Tasting - Palm Desert
DESCRIPTION:
URL:https://unclenearest.com/live/bristol-farms-tasting-palm-desert/
LOCATION:Bristol Farms\, 18421 Yorba Linda Blvd\, Yorba Linda\, CA\, 92886\, United States
END:VEVENT
BEGIN:VEVENT
DTSTART;TZID=America/Los_Angeles:20240322T150000
DTEND;TZID=America/Los_Angeles:20240322T190000
DTSTAMP:20260421T060754
CREATED:20240301T211138Z
LAST-MODIFIED:20240301T211138Z
UID:10000846-1711119600-1711134000@unclenearest.com
SUMMARY:Bristol Farms Tasting - Manhattan Beach
DESCRIPTION:
URL:https://unclenearest.com/live/bristol-farms-tasting-manhattan-beach/
LOCATION:Bristol Farms\, 18421 Yorba Linda Blvd\, Yorba Linda\, CA\, 92886\, United States
END:VEVENT
BEGIN:VEVENT
DTSTART;TZID=America/Los_Angeles:20240315T150000
DTEND;TZID=America/Los_Angeles:20240315T190000
DTSTAMP:20260421T060754
CREATED:20240301T210726Z
LAST-MODIFIED:20240301T210726Z
UID:10000845-1710514800-1710529200@unclenearest.com
SUMMARY:Bristol Farms Tasting - Yorba Linda
DESCRIPTION:
URL:https://unclenearest.com/live/bristol-farms-tasting-yorba-linda-2/
LOCATION:Bristol Farms\, 18421 Yorba Linda Blvd\, Yorba Linda\, CA\, 92886\, United States
END:VEVENT
BEGIN:VEVENT
DTSTART;TZID=America/New_York:20240309T150000
DTEND;TZID=America/New_York:20240309T190000
DTSTAMP:20260421T060754
CREATED:20240301T210348Z
LAST-MODIFIED:20240301T210348Z
UID:10000843-1709996400-1710010800@unclenearest.com
SUMMARY:Bristol Farms Tasting - Yorba Linda
DESCRIPTION:
URL:https://unclenearest.com/live/bristol-farms-tasting-yorba-linda/
LOCATION:Bristol Farms\, 18421 Yorba Linda Blvd\, Yorba Linda\, CA\, 92886\, United States
END:VEVENT
END:VCALENDAR