BEGIN:VCALENDAR
VERSION:2.0
PRODID:-//Uncle Nearest Premium Whiskey - 100 Proof from Tennessee - ECPv6.15.20//NONSGML v1.0//EN
CALSCALE:GREGORIAN
METHOD:PUBLISH
X-ORIGINAL-URL:https://unclenearest.com
X-WR-CALDESC:Events for Uncle Nearest Premium Whiskey - 100 Proof from Tennessee
REFRESH-INTERVAL;VALUE=DURATION:PT1H
X-Robots-Tag:noindex
X-PUBLISHED-TTL:PT1H
BEGIN:VTIMEZONE
TZID:America/Los_Angeles
BEGIN:DAYLIGHT
TZOFFSETFROM:-0800
TZOFFSETTO:-0700
TZNAME:PDT
DTSTART:20230312T100000
END:DAYLIGHT
BEGIN:STANDARD
TZOFFSETFROM:-0700
TZOFFSETTO:-0800
TZNAME:PST
DTSTART:20231105T090000
END:STANDARD
BEGIN:DAYLIGHT
TZOFFSETFROM:-0800
TZOFFSETTO:-0700
TZNAME:PDT
DTSTART:20240310T100000
END:DAYLIGHT
BEGIN:STANDARD
TZOFFSETFROM:-0700
TZOFFSETTO:-0800
TZNAME:PST
DTSTART:20241103T090000
END:STANDARD
BEGIN:DAYLIGHT
TZOFFSETFROM:-0800
TZOFFSETTO:-0700
TZNAME:PDT
DTSTART:20250309T100000
END:DAYLIGHT
BEGIN:STANDARD
TZOFFSETFROM:-0700
TZOFFSETTO:-0800
TZNAME:PST
DTSTART:20251102T090000
END:STANDARD
END:VTIMEZONE
BEGIN:VEVENT
DTSTART;TZID=America/Los_Angeles:20240621T150000
DTEND;TZID=America/Los_Angeles:20240621T190000
DTSTAMP:20260421T193628
CREATED:20240531T184335Z
LAST-MODIFIED:20240531T184335Z
UID:10000937-1718982000-1718996400@unclenearest.com
SUMMARY:Bristol Farms Tasting - West Hollywood
DESCRIPTION:
URL:https://unclenearest.com/live/bristol-farms-tasting-west-hollywood-8/
LOCATION:Bristol Farms – West Hollywood\, 9038 Beverly Blvd\, West Hollywood\, CA\, 90048\, United States
END:VEVENT
BEGIN:VEVENT
DTSTART;TZID=America/Los_Angeles:20240615T150000
DTEND;TZID=America/Los_Angeles:20240615T190000
DTSTAMP:20260421T193628
CREATED:20240531T183448Z
LAST-MODIFIED:20240531T183448Z
UID:10000935-1718463600-1718478000@unclenearest.com
SUMMARY:Bristol Farms Tasting - West Hollywood
DESCRIPTION:
URL:https://unclenearest.com/live/bristol-farms-tasting-west-hollywood-7/
LOCATION:Bristol Farms – West Hollywood\, 9038 Beverly Blvd\, West Hollywood\, CA\, 90048\, United States
END:VEVENT
BEGIN:VEVENT
DTSTART;TZID=America/Los_Angeles:20240607T150000
DTEND;TZID=America/Los_Angeles:20240607T190000
DTSTAMP:20260421T193628
CREATED:20240531T173950Z
LAST-MODIFIED:20240531T173950Z
UID:10000923-1717772400-1717786800@unclenearest.com
SUMMARY:Bristol Farms Tasting: West Hollywood
DESCRIPTION:
URL:https://unclenearest.com/live/bristol-farms-tasting-west-hollywood-6/
LOCATION:Bristol Farms – West Hollywood\, 9038 Beverly Blvd\, West Hollywood\, CA\, 90048\, United States
END:VEVENT
BEGIN:VEVENT
DTSTART;TZID=America/Los_Angeles:20240524T150000
DTEND;TZID=America/Los_Angeles:20240524T190000
DTSTAMP:20260421T193628
CREATED:20240517T154718Z
LAST-MODIFIED:20240517T154718Z
UID:10000910-1716562800-1716577200@unclenearest.com
SUMMARY:Bristol Farms Tasting - West Hollywood
DESCRIPTION:
URL:https://unclenearest.com/live/bristol-farms-tasting-west-hollywood-5/
LOCATION:Bristol Farms – West Hollywood\, 9038 Beverly Blvd\, West Hollywood\, CA\, 90048\, United States
END:VEVENT
BEGIN:VEVENT
DTSTART;TZID=America/Los_Angeles:20240510T150000
DTEND;TZID=America/Los_Angeles:20240510T190000
DTSTAMP:20260421T193628
CREATED:20240510T155140Z
LAST-MODIFIED:20240510T155140Z
UID:10000898-1715353200-1715367600@unclenearest.com
SUMMARY:Bristol Farms Tasting - West Hollywood
DESCRIPTION:
URL:https://unclenearest.com/live/bristol-farms-tasting-west-hollywood-4/
LOCATION:Bristol Farms – West Hollywood\, 9038 Beverly Blvd\, West Hollywood\, CA\, 90048\, United States
END:VEVENT
BEGIN:VEVENT
DTSTART;TZID=America/Los_Angeles:20240426T150000
DTEND;TZID=America/Los_Angeles:20240426T190000
DTSTAMP:20260421T193628
CREATED:20240411T182902Z
LAST-MODIFIED:20240411T182902Z
UID:10000886-1714143600-1714158000@unclenearest.com
SUMMARY:Bristol Farms Tasting - West Hollywood\, CA
DESCRIPTION:
URL:https://unclenearest.com/live/bristol-farms-tasting-west-hollywood-ca-3/
LOCATION:Bristol Farms – West Hollywood\, 9038 Beverly Blvd\, West Hollywood\, CA\, 90048\, United States
END:VEVENT
BEGIN:VEVENT
DTSTART;TZID=America/Los_Angeles:20240425T150000
DTEND;TZID=America/Los_Angeles:20240425T190000
DTSTAMP:20260421T193628
CREATED:20240411T181520Z
LAST-MODIFIED:20240411T181520Z
UID:10000881-1714057200-1714071600@unclenearest.com
SUMMARY:Bristol Farms Tasting - West Hollywood\, CA
DESCRIPTION:
URL:https://unclenearest.com/live/bristol-farms-tasting-west-hollywood-ca-2/
LOCATION:Bristol Farms – West Hollywood\, 9038 Beverly Blvd\, West Hollywood\, CA\, 90048\, United States
END:VEVENT
BEGIN:VEVENT
DTSTART;TZID=America/Los_Angeles:20240420T150000
DTEND;TZID=America/Los_Angeles:20240420T190000
DTSTAMP:20260421T193628
CREATED:20240411T175415Z
LAST-MODIFIED:20240411T175415Z
UID:10000877-1713625200-1713639600@unclenearest.com
SUMMARY:Bristol Farms Tasting - West Hollywood\, CA
DESCRIPTION:
URL:https://unclenearest.com/live/bristol-farms-tasting-west-hollywood-ca/
LOCATION:Bristol Farms – West Hollywood\, 9038 Beverly Blvd\, West Hollywood\, CA\, 90048\, United States
END:VEVENT
BEGIN:VEVENT
DTSTART;TZID=America/Los_Angeles:20240329T150000
DTEND;TZID=America/Los_Angeles:20240329T190000
DTSTAMP:20260421T193628
CREATED:20240301T165618Z
LAST-MODIFIED:20240301T165654Z
UID:10000839-1711724400-1711738800@unclenearest.com
SUMMARY:Bristol Farms Tasting - Woodland Hills
DESCRIPTION:
URL:https://unclenearest.com/live/bristol-farms-tasting-7/
LOCATION:Bristol Farms – West Hollywood\, 9038 Beverly Blvd\, West Hollywood\, CA\, 90048\, United States
END:VEVENT
BEGIN:VEVENT
DTSTART;TZID=America/Los_Angeles:20240323T150000
DTEND;TZID=America/Los_Angeles:20240323T190000
DTSTAMP:20260421T193628
CREATED:20240301T211325Z
LAST-MODIFIED:20240301T211325Z
UID:10000847-1711206000-1711220400@unclenearest.com
SUMMARY:Bristol Farms Tasting - West Hollywood
DESCRIPTION:
URL:https://unclenearest.com/live/bristol-farms-tasting-west-hollywood-3/
LOCATION:Bristol Farms – West Hollywood\, 9038 Beverly Blvd\, West Hollywood\, CA\, 90048\, United States
END:VEVENT
BEGIN:VEVENT
DTSTART;TZID=America/Los_Angeles:20240315T150000
DTEND;TZID=America/Los_Angeles:20240315T190000
DTSTAMP:20260421T193628
CREATED:20240301T210528Z
LAST-MODIFIED:20240301T210528Z
UID:10000844-1710514800-1710529200@unclenearest.com
SUMMARY:Bristol Farms Tasting - West Hollywood
DESCRIPTION:
URL:https://unclenearest.com/live/bristol-farms-tasting-west-hollywood-2/
LOCATION:Bristol Farms – West Hollywood\, 9038 Beverly Blvd\, West Hollywood\, CA\, 90048\, United States
END:VEVENT
BEGIN:VEVENT
DTSTART;TZID=America/Los_Angeles:20240309T150000
DTEND;TZID=America/Los_Angeles:20240309T190000
DTSTAMP:20260421T193628
CREATED:20240301T210207Z
LAST-MODIFIED:20240301T210207Z
UID:10000842-1709996400-1710010800@unclenearest.com
SUMMARY:Bristol Farms Tasting - West Hollywood
DESCRIPTION:
URL:https://unclenearest.com/live/bristol-farms-tasting-west-hollywood/
LOCATION:Bristol Farms – West Hollywood\, 9038 Beverly Blvd\, West Hollywood\, CA\, 90048\, United States
END:VEVENT
BEGIN:VEVENT
DTSTART;TZID=America/Los_Angeles:20240302T150000
DTEND;TZID=America/Los_Angeles:20240302T190000
DTSTAMP:20260421T193628
CREATED:20240301T162423Z
LAST-MODIFIED:20240301T205442Z
UID:10000829-1709391600-1709406000@unclenearest.com
SUMMARY:Bristol Farms Tasting - West Hollywood
DESCRIPTION:
URL:https://unclenearest.com/live/bristol-farms-tasting-2/
LOCATION:Bristol Farms – West Hollywood\, 9038 Beverly Blvd\, West Hollywood\, CA\, 90048\, United States
END:VEVENT
BEGIN:VEVENT
DTSTART;TZID=America/Los_Angeles:20240301T150000
DTEND;TZID=America/Los_Angeles:20240301T190000
DTSTAMP:20260421T193628
CREATED:20240301T162205Z
LAST-MODIFIED:20240301T162205Z
UID:10000828-1709305200-1709319600@unclenearest.com
SUMMARY:Bristol Farms Tasting
DESCRIPTION:
URL:https://unclenearest.com/live/bristol-farms-tasting/
LOCATION:Bristol Farms – West Hollywood\, 9038 Beverly Blvd\, West Hollywood\, CA\, 90048\, United States
END:VEVENT
END:VCALENDAR