BEGIN:VCALENDAR
VERSION:2.0
PRODID:-//Uncle Nearest Premium Whiskey - 100 Proof from Tennessee - ECPv6.15.20//NONSGML v1.0//EN
CALSCALE:GREGORIAN
METHOD:PUBLISH
X-ORIGINAL-URL:https://unclenearest.com
X-WR-CALDESC:Events for Uncle Nearest Premium Whiskey - 100 Proof from Tennessee
REFRESH-INTERVAL;VALUE=DURATION:PT1H
X-Robots-Tag:noindex
X-PUBLISHED-TTL:PT1H
BEGIN:VTIMEZONE
TZID:America/Los_Angeles
BEGIN:DAYLIGHT
TZOFFSETFROM:-0800
TZOFFSETTO:-0700
TZNAME:PDT
DTSTART:20230312T100000
END:DAYLIGHT
BEGIN:STANDARD
TZOFFSETFROM:-0700
TZOFFSETTO:-0800
TZNAME:PST
DTSTART:20231105T090000
END:STANDARD
BEGIN:DAYLIGHT
TZOFFSETFROM:-0800
TZOFFSETTO:-0700
TZNAME:PDT
DTSTART:20240310T100000
END:DAYLIGHT
BEGIN:STANDARD
TZOFFSETFROM:-0700
TZOFFSETTO:-0800
TZNAME:PST
DTSTART:20241103T090000
END:STANDARD
BEGIN:DAYLIGHT
TZOFFSETFROM:-0800
TZOFFSETTO:-0700
TZNAME:PDT
DTSTART:20250309T100000
END:DAYLIGHT
BEGIN:STANDARD
TZOFFSETFROM:-0700
TZOFFSETTO:-0800
TZNAME:PST
DTSTART:20251102T090000
END:STANDARD
END:VTIMEZONE
BEGIN:VEVENT
DTSTART;TZID=America/Los_Angeles:20240225T150000
DTEND;TZID=America/Los_Angeles:20240225T210000
DTSTAMP:20260421T142005
CREATED:20240216T232854Z
LAST-MODIFIED:20240216T232854Z
UID:10000803-1708873200-1708894800@unclenearest.com
SUMMARY:Uncle Nearest Afro Tiki Takeover
DESCRIPTION:
URL:https://unclenearest.com/live/uncle-nearest-afro-tiki-takeover-2/
LOCATION:Broken Shaker LA\, 416 W 8th St\, Los Angeles\, CA\, 90014\, United States
END:VEVENT
END:VCALENDAR