BEGIN:VCALENDAR
VERSION:2.0
PRODID:-//Uncle Nearest Premium Whiskey - 100 Proof from Tennessee - ECPv6.15.20//NONSGML v1.0//EN
CALSCALE:GREGORIAN
METHOD:PUBLISH
X-WR-CALNAME:Uncle Nearest Premium Whiskey - 100 Proof from Tennessee
X-ORIGINAL-URL:https://unclenearest.com
X-WR-CALDESC:Events for Uncle Nearest Premium Whiskey - 100 Proof from Tennessee
REFRESH-INTERVAL;VALUE=DURATION:PT1H
X-Robots-Tag:noindex
X-PUBLISHED-TTL:PT1H
BEGIN:VTIMEZONE
TZID:America/New_York
BEGIN:DAYLIGHT
TZOFFSETFROM:-0500
TZOFFSETTO:-0400
TZNAME:EDT
DTSTART:20220313T070000
END:DAYLIGHT
BEGIN:STANDARD
TZOFFSETFROM:-0400
TZOFFSETTO:-0500
TZNAME:EST
DTSTART:20221106T060000
END:STANDARD
BEGIN:DAYLIGHT
TZOFFSETFROM:-0500
TZOFFSETTO:-0400
TZNAME:EDT
DTSTART:20230312T070000
END:DAYLIGHT
BEGIN:STANDARD
TZOFFSETFROM:-0400
TZOFFSETTO:-0500
TZNAME:EST
DTSTART:20231105T060000
END:STANDARD
BEGIN:DAYLIGHT
TZOFFSETFROM:-0500
TZOFFSETTO:-0400
TZNAME:EDT
DTSTART:20240310T070000
END:DAYLIGHT
BEGIN:STANDARD
TZOFFSETFROM:-0400
TZOFFSETTO:-0500
TZNAME:EST
DTSTART:20241103T060000
END:STANDARD
END:VTIMEZONE
BEGIN:VEVENT
DTSTART;TZID=America/New_York:20230224T190000
DTEND;TZID=America/New_York:20230224T210000
DTSTAMP:20260420T123630
CREATED:20230202T010321Z
LAST-MODIFIED:20230208T055641Z
UID:10000581-1677265200-1677272400@unclenearest.com
SUMMARY:Uncle Nearest Whiskey Pairing Dinner
DESCRIPTION:
URL:https://unclenearest.com/live/uncle-nearest-whiskey-pairing-dinner/
LOCATION:Finch & Fork | Canary Kimpton\, 31 West Carrillo Street\, Santa Barbara\, CA\, 93101\, United States
END:VEVENT
BEGIN:VEVENT
DTSTART;TZID=America/New_York:20230210T190000
DTEND;TZID=America/New_York:20230210T190000
DTSTAMP:20260420T123630
CREATED:20230202T010320Z
LAST-MODIFIED:20230202T010321Z
UID:10000577-1676055600-1676055600@unclenearest.com
SUMMARY:Love Potion Class with Pura Luna Apothecary
DESCRIPTION:
URL:https://unclenearest.com/live/love-potion-class-with-pura-luna-apothecary/
LOCATION:Finch & Fork | Canary Kimpton\, 31 West Carrillo Street\, Santa Barbara\, CA\, 93101\, United States
END:VEVENT
BEGIN:VEVENT
DTSTART;TZID=America/New_York:20230203T170000
DTEND;TZID=America/New_York:20230203T170000
DTSTAMP:20260420T123630
CREATED:20230202T010315Z
LAST-MODIFIED:20230202T010315Z
UID:10000573-1675443600-1675443600@unclenearest.com
SUMMARY:Old Fashioned Master Class
DESCRIPTION:
URL:https://unclenearest.com/live/old-fashioned-master-class/
LOCATION:Finch & Fork | Canary Kimpton\, 31 West Carrillo Street\, Santa Barbara\, CA\, 93101\, United States
END:VEVENT
END:VCALENDAR