BEGIN:VCALENDAR
VERSION:2.0
PRODID:-//Uncle Nearest Premium Whiskey - 100 Proof from Tennessee - ECPv6.15.20//NONSGML v1.0//EN
CALSCALE:GREGORIAN
METHOD:PUBLISH
X-ORIGINAL-URL:https://unclenearest.com
X-WR-CALDESC:Events for Uncle Nearest Premium Whiskey - 100 Proof from Tennessee
REFRESH-INTERVAL;VALUE=DURATION:PT1H
X-Robots-Tag:noindex
X-PUBLISHED-TTL:PT1H
BEGIN:VTIMEZONE
TZID:America/Phoenix
BEGIN:STANDARD
TZOFFSETFROM:-0700
TZOFFSETTO:-0700
TZNAME:MST
DTSTART:20220101T000000
END:STANDARD
END:VTIMEZONE
BEGIN:VEVENT
DTSTART;TZID=America/Phoenix:20230923T183000
DTEND;TZID=America/Phoenix:20230923T213000
DTSTAMP:20260420T083747
CREATED:20230920T154650Z
LAST-MODIFIED:20230920T154650Z
UID:10000718-1695493800-1695504600@unclenearest.com
SUMMARY:Elevate MeD Event
DESCRIPTION:
URL:https://unclenearest.com/live/elevate-med-event/
LOCATION:Mountain Shadows Resort\, 5445 E Lincoln Dr\, Paradise Valley\, AZ\, 85253\, United States
END:VEVENT
END:VCALENDAR