BEGIN:VCALENDAR
VERSION:2.0
PRODID:-//Uncle Nearest Premium Whiskey - 100 Proof from Tennessee - ECPv6.15.20//NONSGML v1.0//EN
CALSCALE:GREGORIAN
METHOD:PUBLISH
X-WR-CALNAME:Uncle Nearest Premium Whiskey - 100 Proof from Tennessee
X-ORIGINAL-URL:https://unclenearest.com
X-WR-CALDESC:Events for Uncle Nearest Premium Whiskey - 100 Proof from Tennessee
REFRESH-INTERVAL;VALUE=DURATION:PT1H
X-Robots-Tag:noindex
X-PUBLISHED-TTL:PT1H
BEGIN:VTIMEZONE
TZID:America/New_York
BEGIN:DAYLIGHT
TZOFFSETFROM:-0500
TZOFFSETTO:-0400
TZNAME:EDT
DTSTART:20230312T070000
END:DAYLIGHT
BEGIN:STANDARD
TZOFFSETFROM:-0400
TZOFFSETTO:-0500
TZNAME:EST
DTSTART:20231105T060000
END:STANDARD
BEGIN:DAYLIGHT
TZOFFSETFROM:-0500
TZOFFSETTO:-0400
TZNAME:EDT
DTSTART:20240310T070000
END:DAYLIGHT
BEGIN:STANDARD
TZOFFSETFROM:-0400
TZOFFSETTO:-0500
TZNAME:EST
DTSTART:20241103T060000
END:STANDARD
BEGIN:DAYLIGHT
TZOFFSETFROM:-0500
TZOFFSETTO:-0400
TZNAME:EDT
DTSTART:20250309T070000
END:DAYLIGHT
BEGIN:STANDARD
TZOFFSETFROM:-0400
TZOFFSETTO:-0500
TZNAME:EST
DTSTART:20251102T060000
END:STANDARD
END:VTIMEZONE
BEGIN:VEVENT
DTSTART;TZID=America/New_York:20240224T120000
DTEND;TZID=America/New_York:20240224T170000
DTSTAMP:20260421T043540
CREATED:20240202T234305Z
LAST-MODIFIED:20240202T234305Z
UID:10000797-1708776000-1708794000@unclenearest.com
SUMMARY:12th Annual Charity Polo Classic
DESCRIPTION:
URL:https://unclenearest.com/live/12th-annual-charity-polo-classic/
LOCATION:Sleepy Oaks Farm\, 1003 Coward Road\, Plant City\, FL\, 33567\, United States
END:VEVENT
END:VCALENDAR