BEGIN:VCALENDAR
VERSION:2.0
PRODID:-//Uncle Nearest Premium Whiskey - 100 Proof from Tennessee - ECPv6.15.20//NONSGML v1.0//EN
CALSCALE:GREGORIAN
METHOD:PUBLISH
X-WR-CALNAME:Uncle Nearest Premium Whiskey - 100 Proof from Tennessee
X-ORIGINAL-URL:https://unclenearest.com
X-WR-CALDESC:Events for Uncle Nearest Premium Whiskey - 100 Proof from Tennessee
REFRESH-INTERVAL;VALUE=DURATION:PT1H
X-Robots-Tag:noindex
X-PUBLISHED-TTL:PT1H
BEGIN:VTIMEZONE
TZID:America/New_York
BEGIN:DAYLIGHT
TZOFFSETFROM:-0500
TZOFFSETTO:-0400
TZNAME:EDT
DTSTART:20220313T070000
END:DAYLIGHT
BEGIN:STANDARD
TZOFFSETFROM:-0400
TZOFFSETTO:-0500
TZNAME:EST
DTSTART:20221106T060000
END:STANDARD
BEGIN:DAYLIGHT
TZOFFSETFROM:-0500
TZOFFSETTO:-0400
TZNAME:EDT
DTSTART:20230312T070000
END:DAYLIGHT
BEGIN:STANDARD
TZOFFSETFROM:-0400
TZOFFSETTO:-0500
TZNAME:EST
DTSTART:20231105T060000
END:STANDARD
BEGIN:DAYLIGHT
TZOFFSETFROM:-0500
TZOFFSETTO:-0400
TZNAME:EDT
DTSTART:20240310T070000
END:DAYLIGHT
BEGIN:STANDARD
TZOFFSETFROM:-0400
TZOFFSETTO:-0500
TZNAME:EST
DTSTART:20241103T060000
END:STANDARD
END:VTIMEZONE
BEGIN:VTIMEZONE
TZID:America/New_York
BEGIN:DAYLIGHT
TZOFFSETFROM:-0500
TZOFFSETTO:-0400
TZNAME:EDT
DTSTART:20220313T070000
END:DAYLIGHT
BEGIN:STANDARD
TZOFFSETFROM:-0400
TZOFFSETTO:-0500
TZNAME:EST
DTSTART:20221106T060000
END:STANDARD
BEGIN:DAYLIGHT
TZOFFSETFROM:-0500
TZOFFSETTO:-0400
TZNAME:EDT
DTSTART:20230312T070000
END:DAYLIGHT
BEGIN:STANDARD
TZOFFSETFROM:-0400
TZOFFSETTO:-0500
TZNAME:EST
DTSTART:20231105T060000
END:STANDARD
BEGIN:DAYLIGHT
TZOFFSETFROM:-0500
TZOFFSETTO:-0400
TZNAME:EDT
DTSTART:20240310T070000
END:DAYLIGHT
BEGIN:STANDARD
TZOFFSETFROM:-0400
TZOFFSETTO:-0500
TZNAME:EST
DTSTART:20241103T060000
END:STANDARD
END:VTIMEZONE
BEGIN:VEVENT
DTSTART;TZID=America/New_York:20230730T130000
DTEND;TZID=America/New_York:20230730T163000
DTSTAMP:20260421T130505
CREATED:20230705T170211Z
LAST-MODIFIED:20230705T170211Z
UID:10000659-1690722000-1690734600@unclenearest.com
SUMMARY:Long Island Summer Fest
DESCRIPTION:
URL:https://unclenearest.com/live/long-island-summer-fest-2/
LOCATION:Tanger Outlets\, 152 Arches Circle\, Deer Park\, NY\, 11729\, United States
END:VEVENT
BEGIN:VEVENT
DTSTART;TZID=America/New_York:20230715T130000
DTEND;TZID=America/New_York:20230715T163000
DTSTAMP:20260421T130505
CREATED:20230607T185916Z
LAST-MODIFIED:20230607T185916Z
UID:10000639-1689426000-1689438600@unclenearest.com
SUMMARY:Long Island Summer Fest
DESCRIPTION:
URL:https://unclenearest.com/live/long-island-summer-fest/
LOCATION:Tanger Outlets\, 152 Arches Circle\, Deer Park\, NY\, 11729\, United States
END:VEVENT
END:VCALENDAR