BEGIN:VCALENDAR
VERSION:2.0
PRODID:-//Uncle Nearest Premium Whiskey - 100 Proof from Tennessee - ECPv6.15.20//NONSGML v1.0//EN
CALSCALE:GREGORIAN
METHOD:PUBLISH
X-WR-CALNAME:Uncle Nearest Premium Whiskey - 100 Proof from Tennessee
X-ORIGINAL-URL:https://unclenearest.com
X-WR-CALDESC:Events for Uncle Nearest Premium Whiskey - 100 Proof from Tennessee
REFRESH-INTERVAL;VALUE=DURATION:PT1H
X-Robots-Tag:noindex
X-PUBLISHED-TTL:PT1H
BEGIN:VTIMEZONE
TZID:America/Chicago
BEGIN:DAYLIGHT
TZOFFSETFROM:-0600
TZOFFSETTO:-0500
TZNAME:CDT
DTSTART:20210314T080000
END:DAYLIGHT
BEGIN:STANDARD
TZOFFSETFROM:-0500
TZOFFSETTO:-0600
TZNAME:CST
DTSTART:20211107T070000
END:STANDARD
BEGIN:DAYLIGHT
TZOFFSETFROM:-0600
TZOFFSETTO:-0500
TZNAME:CDT
DTSTART:20220313T080000
END:DAYLIGHT
BEGIN:STANDARD
TZOFFSETFROM:-0500
TZOFFSETTO:-0600
TZNAME:CST
DTSTART:20221106T070000
END:STANDARD
BEGIN:DAYLIGHT
TZOFFSETFROM:-0600
TZOFFSETTO:-0500
TZNAME:CDT
DTSTART:20230312T080000
END:DAYLIGHT
BEGIN:STANDARD
TZOFFSETFROM:-0500
TZOFFSETTO:-0600
TZNAME:CST
DTSTART:20231105T070000
END:STANDARD
END:VTIMEZONE
BEGIN:VEVENT
DTSTART;TZID=America/Chicago:20221210T170000
DTEND;TZID=America/Chicago:20221210T220000
DTSTAMP:20260420T083117
CREATED:20221208T193829Z
LAST-MODIFIED:20221208T193829Z
UID:10000545-1670691600-1670709600@unclenearest.com
SUMMARY:RPAC Nupes Presents Kappasino
DESCRIPTION:
URL:https://unclenearest.com/live/rpac-nupes-presents-kappasino/
LOCATION:The DuSable\, 740 East 56th PL\, Chicago\, IL\, 60637\, United States
END:VEVENT
END:VCALENDAR