BEGIN:VCALENDAR
VERSION:2.0
PRODID:-//Uncle Nearest Premium Whiskey - 100 Proof from Tennessee - ECPv6.15.20//NONSGML v1.0//EN
CALSCALE:GREGORIAN
METHOD:PUBLISH
X-ORIGINAL-URL:https://unclenearest.com
X-WR-CALDESC:Events for Uncle Nearest Premium Whiskey - 100 Proof from Tennessee
REFRESH-INTERVAL;VALUE=DURATION:PT1H
X-Robots-Tag:noindex
X-PUBLISHED-TTL:PT1H
BEGIN:VTIMEZONE
TZID:America/Los_Angeles
BEGIN:DAYLIGHT
TZOFFSETFROM:-0800
TZOFFSETTO:-0700
TZNAME:PDT
DTSTART:20230312T100000
END:DAYLIGHT
BEGIN:STANDARD
TZOFFSETFROM:-0700
TZOFFSETTO:-0800
TZNAME:PST
DTSTART:20231105T090000
END:STANDARD
BEGIN:DAYLIGHT
TZOFFSETFROM:-0800
TZOFFSETTO:-0700
TZNAME:PDT
DTSTART:20240310T100000
END:DAYLIGHT
BEGIN:STANDARD
TZOFFSETFROM:-0700
TZOFFSETTO:-0800
TZNAME:PST
DTSTART:20241103T090000
END:STANDARD
BEGIN:DAYLIGHT
TZOFFSETFROM:-0800
TZOFFSETTO:-0700
TZNAME:PDT
DTSTART:20250309T100000
END:DAYLIGHT
BEGIN:STANDARD
TZOFFSETFROM:-0700
TZOFFSETTO:-0800
TZNAME:PST
DTSTART:20251102T090000
END:STANDARD
END:VTIMEZONE
BEGIN:VEVENT
DTSTART;TZID=America/Los_Angeles:20240615T160000
DTEND;TZID=America/Los_Angeles:20240615T190000
DTSTAMP:20260421T092642
CREATED:20240531T183343Z
LAST-MODIFIED:20240531T183343Z
UID:10000934-1718467200-1718478000@unclenearest.com
SUMMARY:Whole Foods Tasting - Pasadena
DESCRIPTION:
URL:https://unclenearest.com/live/whole-foods-tasting-pasadena-2/
LOCATION:Whole Foods – Pasadena\, 3751 E Foothill Blvd\, Pasadena\, CA\, 91107\, United States
END:VEVENT
BEGIN:VEVENT
DTSTART;TZID=America/Los_Angeles:20240517T160000
DTEND;TZID=America/Los_Angeles:20240517T190000
DTSTAMP:20260421T092642
CREATED:20240510T184632Z
LAST-MODIFIED:20240510T184632Z
UID:10000906-1715961600-1715972400@unclenearest.com
SUMMARY:Whole Foods Tasting - Pasadena
DESCRIPTION:
URL:https://unclenearest.com/live/whole-foods-tasting-pasadena/
LOCATION:Whole Foods – Pasadena\, 3751 E Foothill Blvd\, Pasadena\, CA\, 91107\, United States
END:VEVENT
BEGIN:VEVENT
DTSTART;TZID=America/Los_Angeles:20240420T160000
DTEND;TZID=America/Los_Angeles:20240420T190000
DTSTAMP:20260421T092642
CREATED:20240411T175851Z
LAST-MODIFIED:20240411T175851Z
UID:10000879-1713628800-1713639600@unclenearest.com
SUMMARY:Whole Foods Tasting - Pasadena\, CA
DESCRIPTION:
URL:https://unclenearest.com/live/whole-foods-tasting-pasadena-ca/
LOCATION:Whole Foods – Pasadena\, 3751 E Foothill Blvd\, Pasadena\, CA\, 91107\, United States
END:VEVENT
END:VCALENDAR