BEGIN:VCALENDAR
VERSION:2.0
PRODID:-//Uncle Nearest Premium Whiskey - 100 Proof from Tennessee - ECPv6.15.20//NONSGML v1.0//EN
CALSCALE:GREGORIAN
METHOD:PUBLISH
X-ORIGINAL-URL:https://unclenearest.com
X-WR-CALDESC:Events for Uncle Nearest Premium Whiskey - 100 Proof from Tennessee
REFRESH-INTERVAL;VALUE=DURATION:PT1H
X-Robots-Tag:noindex
X-PUBLISHED-TTL:PT1H
BEGIN:VTIMEZONE
TZID:America/Los_Angeles
BEGIN:DAYLIGHT
TZOFFSETFROM:-0800
TZOFFSETTO:-0700
TZNAME:PDT
DTSTART:20230312T100000
END:DAYLIGHT
BEGIN:STANDARD
TZOFFSETFROM:-0700
TZOFFSETTO:-0800
TZNAME:PST
DTSTART:20231105T090000
END:STANDARD
BEGIN:DAYLIGHT
TZOFFSETFROM:-0800
TZOFFSETTO:-0700
TZNAME:PDT
DTSTART:20240310T100000
END:DAYLIGHT
BEGIN:STANDARD
TZOFFSETFROM:-0700
TZOFFSETTO:-0800
TZNAME:PST
DTSTART:20241103T090000
END:STANDARD
BEGIN:DAYLIGHT
TZOFFSETFROM:-0800
TZOFFSETTO:-0700
TZNAME:PDT
DTSTART:20250309T100000
END:DAYLIGHT
BEGIN:STANDARD
TZOFFSETFROM:-0700
TZOFFSETTO:-0800
TZNAME:PST
DTSTART:20251102T090000
END:STANDARD
END:VTIMEZONE
BEGIN:VEVENT
DTSTART;TZID=America/Los_Angeles:20240413T160000
DTEND;TZID=America/Los_Angeles:20240413T190000
DTSTAMP:20260421T114250
CREATED:20240413T152302Z
LAST-MODIFIED:20240411T174901Z
UID:10000867-1713024000-1713034800@unclenearest.com
SUMMARY:Whole Foods Tasting - Tustin\, CA
DESCRIPTION:
URL:https://unclenearest.com/live/whole-foods-tasting-tustin-ca/
LOCATION:Whole Foods\, 3401 W. Olive Ave\, Burbank\, CA\, 91505\, United States
END:VEVENT
BEGIN:VEVENT
DTSTART;TZID=America/Los_Angeles:20240413T160000
DTEND;TZID=America/Los_Angeles:20240413T190000
DTSTAMP:20260421T114250
CREATED:20240411T152822Z
LAST-MODIFIED:20240411T174945Z
UID:10000869-1713024000-1713034800@unclenearest.com
SUMMARY:Whole Foods Tasting - Burbank\, CA
DESCRIPTION:
URL:https://unclenearest.com/live/whole-foods-tasting-burbank-ca/
LOCATION:Whole Foods\, 3401 W. Olive Ave\, Burbank\, CA\, 91505\, United States
END:VEVENT
BEGIN:VEVENT
DTSTART;TZID=America/Los_Angeles:20240413T160000
DTEND;TZID=America/Los_Angeles:20240413T190000
DTSTAMP:20260421T114250
CREATED:20240411T152437Z
LAST-MODIFIED:20240411T175033Z
UID:10000868-1713024000-1713034800@unclenearest.com
SUMMARY:Whole Foods Tasting - Brentwood\, CA
DESCRIPTION:
URL:https://unclenearest.com/live/whole-foods-tasting-brentwood-ca/
LOCATION:Whole Foods\, 3401 W. Olive Ave\, Burbank\, CA\, 91505\, United States
END:VEVENT
BEGIN:VEVENT
DTSTART;TZID=America/Los_Angeles:20240412T160000
DTEND;TZID=America/Los_Angeles:20240412T190000
DTSTAMP:20260421T114250
CREATED:20240411T151915Z
LAST-MODIFIED:20240411T175130Z
UID:10000866-1712937600-1712948400@unclenearest.com
SUMMARY:Whole Foods Tasting - Laguna Niguel\, CA
DESCRIPTION:
URL:https://unclenearest.com/live/whole-foods-tasting-laguna-niguel-ca/
LOCATION:Whole Foods\, 3401 W. Olive Ave\, Burbank\, CA\, 91505\, United States
END:VEVENT
BEGIN:VEVENT
DTSTART;TZID=America/Los_Angeles:20240412T160000
DTEND;TZID=America/Los_Angeles:20240412T190000
DTSTAMP:20260421T114250
CREATED:20240411T151736Z
LAST-MODIFIED:20240411T175222Z
UID:10000865-1712937600-1712948400@unclenearest.com
SUMMARY:Whole Foods Tasting - Newport Beach\, CA
DESCRIPTION:
URL:https://unclenearest.com/live/whole-foods-tasting-newport-beach-ca/
LOCATION:Whole Foods\, 3401 W. Olive Ave\, Burbank\, CA\, 91505\, United States
END:VEVENT
END:VCALENDAR